BEGIN:VCALENDAR
VERSION:2.0
PRODID:-//jEvents 2.0 for Joomla//EN
CALSCALE:GREGORIAN
METHOD:PUBLISH
BEGIN:VTIMEZONE
TZID:Europe/Rome
BEGIN:STANDARD
DTSTART:20211031T020000
RDATE:20220327T030000
TZOFFSETFROM:+0200
TZOFFSETTO:+0100
TZNAME:Europe/Rome CET
END:STANDARD
BEGIN:STANDARD
DTSTART:20221030T020000
RDATE:20230326T030000
TZOFFSETFROM:+0200
TZOFFSETTO:+0100
TZNAME:Europe/Rome CET
END:STANDARD
BEGIN:STANDARD
DTSTART:20231029T020000
RDATE:20240331T030000
TZOFFSETFROM:+0200
TZOFFSETTO:+0100
TZNAME:Europe/Rome CET
END:STANDARD
BEGIN:STANDARD
DTSTART:20241027T020000
RDATE:20250330T030000
TZOFFSETFROM:+0200
TZOFFSETTO:+0100
TZNAME:Europe/Rome CET
END:STANDARD
BEGIN:STANDARD
DTSTART:20251026T020000
RDATE:20260329T030000
TZOFFSETFROM:+0200
TZOFFSETTO:+0100
TZNAME:Europe/Rome CET
END:STANDARD
BEGIN:STANDARD
DTSTART:20261025T020000
RDATE:20270328T030000
TZOFFSETFROM:+0200
TZOFFSETTO:+0100
TZNAME:Europe/Rome CET
END:STANDARD
BEGIN:STANDARD
DTSTART:20271031T020000
RDATE:20280326T030000
TZOFFSETFROM:+0200
TZOFFSETTO:+0100
TZNAME:Europe/Rome CET
END:STANDARD
BEGIN:STANDARD
DTSTART:20281029T020000
RDATE:20290325T030000
TZOFFSETFROM:+0200
TZOFFSETTO:+0100
TZNAME:Europe/Rome CET
END:STANDARD
BEGIN:STANDARD
DTSTART:20291028T020000
RDATE:20300331T030000
TZOFFSETFROM:+0200
TZOFFSETTO:+0100
TZNAME:Europe/Rome CET
END:STANDARD
BEGIN:STANDARD
DTSTART:20301027T020000
RDATE:20310330T030000
TZOFFSETFROM:+0200
TZOFFSETTO:+0100
TZNAME:Europe/Rome CET
END:STANDARD
BEGIN:STANDARD
DTSTART:20311026T020000
RDATE:20320328T030000
TZOFFSETFROM:+0200
TZOFFSETTO:+0100
TZNAME:Europe/Rome CET
END:STANDARD
BEGIN:DAYLIGHT
DTSTART:20210518T180000
RDATE:20211031T020000
TZOFFSETFROM:+0100
TZOFFSETTO:+0200
TZNAME:Europe/Rome CEST
END:DAYLIGHT
BEGIN:DAYLIGHT
DTSTART:20220327T030000
RDATE:20221030T020000
TZOFFSETFROM:+0100
TZOFFSETTO:+0200
TZNAME:Europe/Rome CEST
END:DAYLIGHT
BEGIN:DAYLIGHT
DTSTART:20230326T030000
RDATE:20231029T020000
TZOFFSETFROM:+0100
TZOFFSETTO:+0200
TZNAME:Europe/Rome CEST
END:DAYLIGHT
BEGIN:DAYLIGHT
DTSTART:20240331T030000
RDATE:20241027T020000
TZOFFSETFROM:+0100
TZOFFSETTO:+0200
TZNAME:Europe/Rome CEST
END:DAYLIGHT
BEGIN:DAYLIGHT
DTSTART:20250330T030000
RDATE:20251026T020000
TZOFFSETFROM:+0100
TZOFFSETTO:+0200
TZNAME:Europe/Rome CEST
END:DAYLIGHT
BEGIN:DAYLIGHT
DTSTART:20260329T030000
RDATE:20261025T020000
TZOFFSETFROM:+0100
TZOFFSETTO:+0200
TZNAME:Europe/Rome CEST
END:DAYLIGHT
BEGIN:DAYLIGHT
DTSTART:20270328T030000
RDATE:20271031T020000
TZOFFSETFROM:+0100
TZOFFSETTO:+0200
TZNAME:Europe/Rome CEST
END:DAYLIGHT
BEGIN:DAYLIGHT
DTSTART:20280326T030000
RDATE:20281029T020000
TZOFFSETFROM:+0100
TZOFFSETTO:+0200
TZNAME:Europe/Rome CEST
END:DAYLIGHT
BEGIN:DAYLIGHT
DTSTART:20290325T030000
RDATE:20291028T020000
TZOFFSETFROM:+0100
TZOFFSETTO:+0200
TZNAME:Europe/Rome CEST
END:DAYLIGHT
BEGIN:DAYLIGHT
DTSTART:20300331T030000
RDATE:20301027T020000
TZOFFSETFROM:+0100
TZOFFSETTO:+0200
TZNAME:Europe/Rome CEST
END:DAYLIGHT
BEGIN:DAYLIGHT
DTSTART:20310330T030000
RDATE:20311026T020000
TZOFFSETFROM:+0100
TZOFFSETTO:+0200
TZNAME:Europe/Rome CEST
END:DAYLIGHT
END:VTIMEZONE
BEGIN:VEVENT
UID:1d450142f1bba4c6195adcd14c0d293f
CATEGORIES:Verso Venezia 2022, Online
CREATED:20220504T102101
SUMMARY:Guerra, nonviolenza, decrescita
LOCATION:Online (diretta facebook)
DESCRIPTION;ENCODING=QUOTED-PRINTABLE:\n\nGuerra, nonviolenza, decrescita: Incontro con Mario Agostinelli, Bruna 
 Bianchi, Enrico Euli e Daniela Padoan\n\n\n\nDiretta su www.facebook.com/As
 sociazioneDecrescita \n\n\nIl portato di morte e distruzione di questa guer
 ra è destinato a sconvolgere l’assetto del mondo.  Sotto le macerie sono fi
 niti i fragili equilibri geopolitici stabilitisi dopo l’89, le gerarchie di
  potere tra istituzioni politiche e il complesso industriale-militare, gli 
 scambi economici transnazionali, i pur modesti impegni fin qui assunti in c
 ampo ambientale, fino alle stesse relazioni pacifiche di convivenza tra i p
 opoli che vengono ora sospinti dalla propaganda bellicista dei governi su c
 ampi opposti.\n\n\nCome fermare la catastrofe? Come riuscire a far emergere
  dal fallimento di questo mondo un’altra idea di società? Su quali valori p
 otrà basarsi il riscatto delle ragioni della vita?\n\n\nNel percorso che ci
  porterà all’incontro di Venezia a settembre sulla decrescita (www.venezia2
 022.it) abbiamo scritto una bozza di documento (disponibile a questo link) 
 e abbiamo chiesto ad alcune/i amiche/ci, studiose e studiosi di aiutarci ad
  approfondire le questioni che la guerra solleva.\n\n\nMario Agostinelli è 
 presidente dell’Associazione Laudato si’,  portavoce del Contratto mondiale
  per l’energia e il clima, autore di saggi e libri tra cui: Tempo e spazio 
 nel postfordismo, Il mondo al tempo dei quanti, Cercare il sole dopo Fukush
 ima.\n\n\nBruna Bianchi, storica, è direttrice di DEP (Deportate, Esuli, Pr
 ofughe), ha insegnato Storia delle donne e questioni di genere. Studiosa de
 lla Grande Guerra, del lavoro minorile e femminile, del pensiero pacifista 
 e femminista. Autrice di saggi e libri tra cui: La violenza contro la popol
 azione civile nella Grande Guerra, L’avventura della pace, Pacifismo.\n\n\n
 Enrico Euli, filosofo, insegna all’università di Cagliari teoria dei giochi
  e dell’animazione sociale, l’educazione alla nonviolenza e l’educazione in
 terculturale. Collabora con www.comune-info.net. Autore di saggi e libri tr
 a cui, Imparare dalle catastrofi. Ha curato la voce Pace, in Il dolce avven
 ire.\n\n\nDaniela Padoan, scrittrice, studiosa delle radici culturali del r
 azzismo. Tra i suoi libri: Come una rana d’inverno. Conversazioni con tre s
 opravvissute ad Auschwitz; Le pazze. Un incontro con le madri di Plaza de M
 ayo; Razzismo e noismo, con il genetista Luca Cavalli Sforza. Ha curato il 
 volume di ecologia integrale Niente di questo mondo ci risulta indifferente
 .\n Qui la locandina dell'incontro Per partecipare, di prega di compilare q
 uesto modulo.  Guarda la registrazione 

	\n\n\n
 This event was imported f
 rom: https://www.venezia2022.it/verso-venezia/eventi/dettaglievento/15/-/gu
 erra-nonviolenza-decrescita?tmpl=component
CONTACT:Questo indirizzo email è protetto dagli spambots. È necessario abilitare JavaScript per vederlo.
DTSTAMP:20260419T182412Z
DTSTART;TZID=Europe/Rome:20220519T180000
DTEND;TZID=Europe/Rome:20220519T200000
SEQUENCE:0
TRANSP:OPAQUE
END:VEVENT
END:VCALENDAR