BEGIN:VCALENDAR
VERSION:2.0
PRODID:-//jEvents 2.0 for Joomla//EN
CALSCALE:GREGORIAN
METHOD:PUBLISH
BEGIN:VTIMEZONE
TZID:Europe/Rome
BEGIN:STANDARD
DTSTART:20211031T020000
RDATE:20220327T030000
TZOFFSETFROM:+0200
TZOFFSETTO:+0100
TZNAME:Europe/Rome CET
END:STANDARD
BEGIN:STANDARD
DTSTART:20221030T020000
RDATE:20230326T030000
TZOFFSETFROM:+0200
TZOFFSETTO:+0100
TZNAME:Europe/Rome CET
END:STANDARD
BEGIN:STANDARD
DTSTART:20231029T020000
RDATE:20240331T030000
TZOFFSETFROM:+0200
TZOFFSETTO:+0100
TZNAME:Europe/Rome CET
END:STANDARD
BEGIN:STANDARD
DTSTART:20241027T020000
RDATE:20250330T030000
TZOFFSETFROM:+0200
TZOFFSETTO:+0100
TZNAME:Europe/Rome CET
END:STANDARD
BEGIN:STANDARD
DTSTART:20251026T020000
RDATE:20260329T030000
TZOFFSETFROM:+0200
TZOFFSETTO:+0100
TZNAME:Europe/Rome CET
END:STANDARD
BEGIN:STANDARD
DTSTART:20261025T020000
RDATE:20270328T030000
TZOFFSETFROM:+0200
TZOFFSETTO:+0100
TZNAME:Europe/Rome CET
END:STANDARD
BEGIN:STANDARD
DTSTART:20271031T020000
RDATE:20280326T030000
TZOFFSETFROM:+0200
TZOFFSETTO:+0100
TZNAME:Europe/Rome CET
END:STANDARD
BEGIN:STANDARD
DTSTART:20281029T020000
RDATE:20290325T030000
TZOFFSETFROM:+0200
TZOFFSETTO:+0100
TZNAME:Europe/Rome CET
END:STANDARD
BEGIN:STANDARD
DTSTART:20291028T020000
RDATE:20300331T030000
TZOFFSETFROM:+0200
TZOFFSETTO:+0100
TZNAME:Europe/Rome CET
END:STANDARD
BEGIN:STANDARD
DTSTART:20301027T020000
RDATE:20310330T030000
TZOFFSETFROM:+0200
TZOFFSETTO:+0100
TZNAME:Europe/Rome CET
END:STANDARD
BEGIN:STANDARD
DTSTART:20311026T020000
RDATE:20320328T030000
TZOFFSETFROM:+0200
TZOFFSETTO:+0100
TZNAME:Europe/Rome CET
END:STANDARD
BEGIN:DAYLIGHT
DTSTART:20210603T160000
RDATE:20211031T020000
TZOFFSETFROM:+0100
TZOFFSETTO:+0200
TZNAME:Europe/Rome CEST
END:DAYLIGHT
BEGIN:DAYLIGHT
DTSTART:20220327T030000
RDATE:20221030T020000
TZOFFSETFROM:+0100
TZOFFSETTO:+0200
TZNAME:Europe/Rome CEST
END:DAYLIGHT
BEGIN:DAYLIGHT
DTSTART:20230326T030000
RDATE:20231029T020000
TZOFFSETFROM:+0100
TZOFFSETTO:+0200
TZNAME:Europe/Rome CEST
END:DAYLIGHT
BEGIN:DAYLIGHT
DTSTART:20240331T030000
RDATE:20241027T020000
TZOFFSETFROM:+0100
TZOFFSETTO:+0200
TZNAME:Europe/Rome CEST
END:DAYLIGHT
BEGIN:DAYLIGHT
DTSTART:20250330T030000
RDATE:20251026T020000
TZOFFSETFROM:+0100
TZOFFSETTO:+0200
TZNAME:Europe/Rome CEST
END:DAYLIGHT
BEGIN:DAYLIGHT
DTSTART:20260329T030000
RDATE:20261025T020000
TZOFFSETFROM:+0100
TZOFFSETTO:+0200
TZNAME:Europe/Rome CEST
END:DAYLIGHT
BEGIN:DAYLIGHT
DTSTART:20270328T030000
RDATE:20271031T020000
TZOFFSETFROM:+0100
TZOFFSETTO:+0200
TZNAME:Europe/Rome CEST
END:DAYLIGHT
BEGIN:DAYLIGHT
DTSTART:20280326T030000
RDATE:20281029T020000
TZOFFSETFROM:+0100
TZOFFSETTO:+0200
TZNAME:Europe/Rome CEST
END:DAYLIGHT
BEGIN:DAYLIGHT
DTSTART:20290325T030000
RDATE:20291028T020000
TZOFFSETFROM:+0100
TZOFFSETTO:+0200
TZNAME:Europe/Rome CEST
END:DAYLIGHT
BEGIN:DAYLIGHT
DTSTART:20300331T030000
RDATE:20301027T020000
TZOFFSETFROM:+0100
TZOFFSETTO:+0200
TZNAME:Europe/Rome CEST
END:DAYLIGHT
BEGIN:DAYLIGHT
DTSTART:20310330T030000
RDATE:20311026T020000
TZOFFSETFROM:+0100
TZOFFSETTO:+0200
TZNAME:Europe/Rome CEST
END:DAYLIGHT
END:VTIMEZONE
BEGIN:VEVENT
UID:e2a1fe64f379102acd129dd4fa3c750f
CATEGORIES:Verso Venezia 2022, Roma
CREATED:20220601T162708
SUMMARY:Global Degrowth Day - Roma
LOCATION:Via della Caffarella 13
DESCRIPTION;ENCODING=QUOTED-PRINTABLE:<p><span style="font-weight: 400;">Nel percorso verso </span><a href="http:
 //www.venezia2022"><span style="font-weight: 400;">Venezia 2022</span></a><
 span style="font-weight: 400;">, sabato 4 maggio, </span><a href="https://d
 egrowth.info/en/gdd-good-life-for-all"><span style="font-weight: 400;">gior
 nata mondiale della decrescita</span></a><span style="font-weight: 400;">, 
 il gruppo di Roma dell'Associazione per la decrescita e la L.E.A. Berta Cac
 eres organizzano un incontro sulla giustizia ambientale, per “una buona vit
 a per tutte/i”. </span></p><p><em><span style="font-weight: 400;"><b>Cosa i
 ntendiamo con </b><a href="https://degrowth.info/en/gdd-good-life-for-all">
 <b>"una buona vita per tutti"</b></a><b>? </b>Una buona vita per tutti rich
 iede una società che miri al benessere di tutte le persone e che protegga l
 e basi ecologiche della vita. Questo obiettivo può essere raggiunto solo at
 traverso un cambiamento fondamentale del nostro attuale modo di vivere e di
  produrre e un cambiamento culturale globale. Per noi, i valori di una tale
  società includono la consapevolezza, la decelerazione, la solidarietà e la
  cooperazione, al fine di rendere possibile una vita autodeterminata e dign
 itosa per tutti. Tra le altre cose, abbiamo bisogno di un'attenta gestione 
 delle risorse, di un orientamento verso la sufficienza e di una riduzione d
 ella produzione e del consumo nel Nord globale.  Dobbiamo anche sviluppare 
 forme decisionali più democratiche per consentire un'autentica partecipazio
 ne politica e ridurre le strutture globali di dominio e sfruttamento, come 
 il razzismo, il sessismo e il neocolonialismo, in modo che tutti possano ef
 fettivamente partecipare alla vita buona. Questo approccio è chiamato anche
  <a href="https://degrowth.info/en/degrowth">decrescita o post-crescita</a>
 . </span></em></p><p><a href="images/GDD%2022%20Roma.pdf" target="_blank" r
 el="noopener"><span style="font-weight: 400;">Qui la locandina</span></a>, 
 qui l'<a href="https://www.facebook.com/events/522205599598695/" target="_b
 lank" rel="noopener">evento facebook.</a></p> This event was imported from:
  https://www.venezia2022.it/verso-venezia/eventi/dettaglievento/26/-/global
 -degrowth-day-roma?tmpl=component
CONTACT:Questo indirizzo email è protetto dagli spambots. È necessario abilitare JavaScript per vederlo.
DTSTAMP:20260419T182555Z
DTSTART;TZID=Europe/Rome:20220604T160000
DTEND;TZID=Europe/Rome:20220604T190000
SEQUENCE:0
TRANSP:OPAQUE
END:VEVENT
END:VCALENDAR